Workbook
Name biop: [1]Pocetni!$C$11
Name bip: [1]Pocetni!$C$13
Name Fil: [1]Pocetni!#REF!
Name Filijala: [2]Pocetni!$A$29
Name Filijala: [2]Pocetni!$A$29
Name FPlan17: #REF!
Name MaticniBroj: [1]Pocetni!$C$12
Name NazivKorisnika: [1]Pocetni!$C$10
Name PIB: [1]Pocetni!#REF!
Name Sediste: [1]Pocetni!#REF!
Name ZU: [2]Pocetni!$D$29
Name ZU: [2]Pocetni!$D$29
Name ZUS: [1]Pocetni!#REF!
Name ZUuSast: [1]Pocetni!#REF!

Sheet 2023
A1: Матични број: | B1: ПИБ: | C1: Назив корисника средстава: | D1: Седиште:
A2: =MaticniBroj -> 08888779 | B2: =bip -> 105592297 | C2: =NazivKorisnika -> ДОМ ЗДРАВЉА "ВЕЉКО ВЛАХОВИЋ" | D2: =biop -> ВРБАС
C3: ФИНАНСИЈСКИ ПЛАН ЗА 2023. ГОДИНУ
A10: I. УКУПНИ ПРИХОДИ И ПРИМАЊА
J11: (У хиљадама динара)
A12: Ознака ОП | B12: Број конта | C12: Опис | D12: Износ планираних прихода и примања
D13: Укупно (од 5 до 10) | E13: Приходи и примања из буџета | I13: Из донација и помоћи | J13: Из осталих извора
E14: Републике | F14: Аутономне покрајине | G14: Општине / града | H14: ООСО
A15: 1 | B15: 2 | C15: 3 | D15: 4 | E15: 5 | F15: 6 | G15: 7 | H15: 8 | I15: 9 | J15: 10
A16: 5001 | C16: ТЕКУЋИ ПРИХОДИ И ПРИМАЊА ОД ПРОДАЈЕ НЕФИНАНСИЈСКЕ ИМОВИНЕ (5002 + 5106) | D16: =SUM(E16:J16) -> 590986 | E16: =E17+E141 -> 7000 | F16: =F17+F141 -> 61000 | G16: =G17+G141 -> 20000 | H16: =H17+H141 -> 469846 | I16: =I17+I141 -> 6300 | J16: =J17+J141 -> 26840
A17: 5002 | B17: 700000 | C17: ТЕКУЋИ ПРИХОДИ (5003 + 5047 + 5057 + 5069 + 5094 + 5099 + 5103) | D17: =SUM(E17:J17) -> 589486 | E17: =E18+E70+E84+E96+E125+E130+E134 -> 7000 | F17: =F18+F70+F84+F96+F125+F130+F134 -> 61000 | G17: =G18+G70+G84+G96+G125+G130+G134 -> 20000 | H17: =H18+H70+H84+H96+H125+H130+H134 -> 469846 | I17: =I18+I70+I84+I96+I125+I130+I134 -> 6300 | J17: =J18+J70+J84+J96+J125+J130+J134 -> 25340
A18: 5003 | B18: 710000 | C18: ПОРЕЗИ (5004 + 5008 + 5010 + 5017 + 5023 + 5030 + 5033 + 5040) | D18: =SUM(E18:J18) -> 0 | E18: =E19+E27+E29+E36+E42+E49+E52+E63 -> 0 | F18: =F19+F27+F29+F36+F42+F49+F52+F63 -> 0 | G18: =G19+G27+G29+G36+G42+G49+G52+G63 -> 0 | H18: =H19+H27+H29+H36+H42+H49+H52+H63 -> 0 | I18: =I19+I27+I29+I36+I42+I49+I52+I63 -> 0 | J18: =J19+J27+J29+J36+J42+J49+J52+J63 -> 0
A19: 5004 | B19: 711000 | C19: ПОРЕЗ НА ДОХОДАК, ДОБИТ И КАПИТАЛНЕ ДОБИТКЕ (од 5005 до 5007) | D19: =SUM(E19:J19) -> 0 | E19: =SUM(E20:E26) -> 0 | F19: =SUM(F20:F26) -> 0 | G19: =SUM(G20:G26) -> 0 | H19: =SUM(H20:H26) -> 0 | I19: =SUM(I20:I26) -> 0 | J19: =SUM(J20:J26) -> 0
A20: 5005 | B20: 711100 | C20: Порези на доходак и капиталнe добиткe које плаћају физичка лица | D20: =SUM(E20:J20) -> 0
A21: Ознака ОП | B21: Број конта | C21: Опис | D21: Износ планираних прихода и примања
D22: Укупно (од 5 до 10) | E22: Приходи и примања из буџета | I22: Из донација и помоћи | J22: Из осталих извора
E23: Републике | F23: Аутономне покрајине | G23: Општине / града | H23: ООСО
A24: 1 | B24: 2 | C24: 3 | D24: 4 | E24: 5 | F24: 6 | G24: 7 | H24: 8 | I24: 9 | J24: 10
A25: 5006 | B25: 711200 | C25: Порези на добит и капиталне добитке које плаћају предузећа и друга правна лица | D25: =SUM(E25:J25) -> 0
A26: 5007 | B26: 711300 | C26: Порези на доходак, добит и капиталне добитке који се не могу разврстати између физичких и правних лица | D26: =SUM(E26:J26) -> 0
A27: 5008 | B27: 712000 | C27: ПОРЕЗ НА ФОНД ЗАРАДА (5009) | D27: =SUM(E27:J27) -> 0 | E27: =E28 -> 0 | F27: =F28 -> 0 | G27: =G28 -> 0 | H27: =H28 -> 0 | I27: =I28 -> 0 | J27: =J28 -> 0
A28: 5009 | B28: 712100 | C28: Порез на фонд зарада | D28: =SUM(E28:J28) -> 0
A29: 5010 | B29: 713000 | C29: ПОРЕЗ НА ИМОВИНУ (од 5011 до 5016) | D29: =SUM(E29:J29) -> 0 | E29: =SUM(E30:E35) -> 0 | F29: =SUM(F30:F35) -> 0 | G29: =SUM(G30:G35) -> 0 | H29: =SUM(H30:H35) -> 0 | I29: =SUM(I30:I35) -> 0 | J29: =SUM(J30:J35) -> 0
A30: 5011 | B30: 713100 | C30: Периодични порези на непокретности | D30: =SUM(E30:J30) -> 0
A31: 5012 | B31: 713200 | C31: Периодични порези на нето имовину | D31: =SUM(E31:J31) -> 0
A32: 5013 | B32: 713300 | C32: Порези на заоставштину, наслеђе и поклон | D32: =SUM(E32:J32) -> 0
A33: 5014 | B33: 713400 | C33: Порези на финансијске и капиталне трансакције | D33: =SUM(E33:J33) -> 0
A34: 5015 | B34: 713500 | C34: Други једнократни порези на имовину | D34: =SUM(E34:J34) -> 0
A35: 5016 | B35: 713600 | C35: Други периодични порези на имовину | D35: =SUM(E35:J35) -> 0
A36: 5017 | B36: 714000 | C36: ПОРЕЗ НА ДОБРА И УСЛУГЕ (од 5018 до 5022) | D36: =SUM(E36:J36) -> 0 | E36: =SUM(E37:E41) -> 0 | F36: =SUM(F37:F41) -> 0 | G36: =SUM(G37:G41) -> 0 | H36: =SUM(H37:H41) -> 0 | I36: =SUM(I37:I41) -> 0 | J36: =SUM(J37:J41) -> 0
A37: 5018 | B37: 714100 | C37: Општи порези на добра и услуге | D37: =SUM(E37:J37) -> 0
A38: 5019 | B38: 714300 | C38: Добит фискалних монопола | D38: =SUM(E38:J38) -> 0
A39: 5020 | B39: 714400 | C39: Порези на појединачне услуге | D39: =SUM(E39:J39) -> 0
A40: 5021 | B40: 714500 | C40: Порези, таксе и накнаде на употребу добара, на дозволу да се добра употребљавају или делатности обављају | D40: =SUM(E40:J40) -> 0
A41: 5022 | B41: 714600 | C41: Други порези на добра и услуге | D41: =SUM(E41:J41) -> 0
A42: 5023 | B42: 715000 | C42: ПОРЕЗ НА МЕЂУНАРОДНУ ТРГОВИНУ И ТРАНСАКЦИЈЕ (од 5024 до 5029) | D42: =SUM(E42:J42) -> 0 | E42: =SUM(E43:E48) -> 0 | F42: =SUM(F43:F48) -> 0 | G42: =SUM(G43:G48) -> 0 | H42: =SUM(H43:H48) -> 0 | I42: =SUM(I43:I48) -> 0 | J42: =SUM(J43:J48) -> 0
A43: 5024 | B43: 715100 | C43: Царине и друге увозне дажбине | D43: =SUM(E43:J43) -> 0
A44: 5025 | B44: 715200 | C44: Порези на извоз | D44: =SUM(E44:J44) -> 0
A45: 5026 | B45: 715300 | C45: Добит извозних или увозних монопола | D45: =SUM(E45:J45) -> 0
A46: 5027 | B46: 715400 | C46: Добит по основу разлике између куповног и продајног девизног курса | D46: =SUM(E46:J46) -> 0
A47: 5028 | B47: 715500 | C47: Порези на продају или куповину девиза | D47: =SUM(E47:J47) -> 0
A48: 5029 | B48: 715600 | C48: Други порези на међународну трговину и трансакције | D48: =SUM(E48:J48) -> 0
A49: 5030 | B49: 716000 | C49: ДРУГИ ПОРЕЗИ (5031 + 5032) | D49: =SUM(E49:J49) -> 0 | E49: =E50+E51 -> 0 | F49: =F50+F51 -> 0 | G49: =G50+G51 -> 0 | H49: =H50+H51 -> 0 | I49: =I50+I51 -> 0 | J49: =J50+J51 -> 0
A50: 5031 | B50: 716100 | C50: Други порези које искључиво плаћају предузећа, односно предузетници | D50: =SUM(E50:J50) -> 0
A51: 5032 | B51: 716200 | C51: Други порези које плаћају остала лица или који се не могу идентификовати | D51: =SUM(E51:J51) -> 0
A52: 5033 | B52: 717000 | C52: АКЦИЗЕ (од 5034 до 5039) | D52: =SUM(E52:J52) -> 0 | E52: =SUM(E57:E62) -> 0 | F52: =SUM(F57:F62) -> 0 | G52: =SUM(G57:G62) -> 0 | H52: =SUM(H57:H62) -> 0 | I52: =SUM(I57:I62) -> 0 | J52: =SUM(J57:J62) -> 0
A53: Ознака ОП | B53: Број конта | C53: Опис | D53: Износ планираних прихода и примања
D54: Укупно (од 5 до 10) | E54: Приходи и примања из буџета | I54: Из донација и помоћи | J54: Из осталих извора
E55: Републике | F55: Аутономне покрајине | G55: Општине / града | H55: ООСО
A56: 1 | B56: 2 | C56: 3 | D56: 4 | E56: 5 | F56: 6 | G56: 7 | H56: 8 | I56: 9 | J56: 10
A57: 5034 | B57: 717100 | C57: Акцизе на деривате нафте | D57: =SUM(E57:J57) -> 0
A58: 5035 | B58: 717200 | C58: Акцизе на дуванске прерађевине | D58: =SUM(E58:J58) -> 0
A59: 5036 | B59: 717300 | C59: Акцизе на алкохолна пића | D59: =SUM(E59:J59) -> 0
A60: 5037 | B60: 717400 | C60: Акцизе на освежавајућа безалкохолна пића | D60: =SUM(E60:J60) -> 0
A61: 5038 | B61: 717500 | C61: Акциза на кафу | D61: =SUM(E61:J61) -> 0
A62: 5039 | B62: 717600 | C62: Друге акцизе | D62: =SUM(E62:J62) -> 0
A63: 5040 | B63: 719000 | C63: ЈЕДНОКРАТНИ ПОРЕЗ НА ЕКСТРА ПРОФИТ И ЕКСТРА ИМОВИНУ СТЕЧЕНУ КОРИШЋЕЊЕМ ПОСЕБНИХ ПОГОДНОСТИ (од 5041 до 5046) | D63: =SUM(E63:J63) -> 0 | E63: =SUM(E64:E69) -> 0 | F63: =SUM(F64:F69) -> 0 | G63: =SUM(G64:G69) -> 0 | H63: =SUM(H64:H69) -> 0 | I63: =SUM(I64:I69) -> 0 | J63: =SUM(J64:J69) -> 0
A64: 5041 | B64: 719100 | C64: Порез на доходак, добит и капиталну добит на терет физичких лица | D64: =SUM(E64:J64) -> 0
A65: 5042 | B65: 719200 | C65: Порез на доходак, добит и капиталну добит на терет предузећа и осталих правних лица | D65: =SUM(E65:J65) -> 0
A66: 5043 | B66: 719300 | C66: Порез на доходак, добит и капиталну добит нераспоредив између физичких и правних лица | D66: =SUM(E66:J66) -> 0
A67: 5044 | B67: 719400 | C67: Остали једнократни порези на имовину | D67: =SUM(E67:J67) -> 0
A68: 5045 | B68: 719500 | C68: Остали порези које плаћају искључиво предузећа и предузетници | D68: =SUM(E68:J68) -> 0
A69: 5046 | B69: 719600 | C69: Остали порези које плаћају друга или неидентификована лица | D69: =SUM(E69:J69) -> 0
A70: 5047 | B70: 720000 | C70: СОЦИЈАЛНИ ДОПРИНОСИ (5048 + 5053) | D70: =SUM(E70:J70) -> 0 | E70: =E71+E76 -> 0 | F70: =F71+F76 -> 0 | G70: =G71+G76 -> 0 | H70: =H71+H76 -> 0 | I70: =I71+I76 -> 0 | J70: =J71+J76 -> 0
A71: 5048 | B71: 721000 | C71: ДОПРИНОСИ ЗА СОЦИЈАЛНО ОСИГУРАЊЕ (од 5049 до 5052) | D71: =SUM(E71:J71) -> 0 | E71: =SUM(E72:E75) -> 0 | F71: =SUM(F72:F75) -> 0 | G71: =SUM(G72:G75) -> 0 | H71: =SUM(H72:H75) -> 0 | I71: =SUM(I72:I75) -> 0 | J71: =SUM(J72:J75) -> 0
A72: 5049 | B72: 721100 | C72: Доприноси за социјално осигурање на терет запослених | D72: =SUM(E72:J72) -> 0
A73: 5050 | B73: 721200 | C73: Доприноси за социјално осигурање на терет послодавца | D73: =SUM(E73:J73) -> 0
A74: 5051 | B74: 721300 | C74: Доприноси за социјално осигурање лица која обављају самосталну делатност и незапослених лица | D74: =SUM(E74:J74) -> 0
A75: 5052 | B75: 721400 | C75: Доприноси за социјално осигурање који се не могу разврстати | D75: =SUM(E75:J75) -> 0
A76: 5053 | B76: 722000 | C76: ОСТАЛИ СОЦИЈАЛНИ ДОПРИНОСИ (од 5054 до 5056) | D76: =SUM(E76:J76) -> 0 | E76: =SUM(E77:E79) -> 0 | F76: =SUM(F77:F79) -> 0 | G76: =SUM(G77:G79) -> 0 | H76: =SUM(H77:H79) -> 0 | I76: =SUM(I77:I79) -> 0 | J76: =SUM(J77:J79) -> 0
A77: 5054 | B77: 722100 | C77: Социјални доприноси на терет осигураника | D77: =SUM(E77:J77) -> 0
A78: 5055 | B78: 722200 | C78: Социјални доприноси на терет послодаваца | D78: =SUM(E78:J78) -> 0
A79: 5056 | B79: 722300 | C79: Импутирани социјални доприноси | D79: =SUM(E79:J79) -> 0
A80: Ознака ОП | B80: Број конта | C80: Опис | D80: Износ планираних прихода и примања
D81: Укупно (од 5 до 10) | E81: Приходи и примања из буџета | I81: Из донација и помоћи | J81: Из осталих извора
E82: Републике | F82: Аутономне покрајине | G82: Општине / града | H82: ООСО
A83: 1 | B83: 2 | C83: 3 | D83: 4 | E83: 5 | F83: 6 | G83: 7 | H83: 8 | I83: 9 | J83: 10
A84: 5057 | B84: 730000 | C84: ДОНАЦИЈЕ, ПОМОЋИ И ТРАНСФЕРИ (5058 + 5061 + 5066) | D84: =SUM(E84:J84) -> 20000 | E84: =E85+E88+E93 -> 0 | F84: =F85+F88+F93 -> 0 | G84: =G85+G88+G93 -> 20000 | H84: =H85+H88+H93 -> 0 | I84: =I85+I88+I93 -> 0 | J84: =J85+J88+J93 -> 0
A85: 5058 | B85: 731000 | C85: ДОНАЦИЈЕ ОД ИНОСТРАНИХ ДРЖАВА (5059 + 5060) | D85: =SUM(E85:J85) -> 0 | E85: =E86+E87 -> 0 | F85: =F86+F87 -> 0 | G85: =G86+G87 -> 0 | H85: =H86+H87 -> 0 | I85: =I86+I87 -> 0 | J85: =J86+J87 -> 0
A86: 5059 | B86: 731100 | C86: Текуће донације од иностраних држава | D86: =SUM(E86:J86) -> 0
A87: 5060 | B87: 731200 | C87: Капиталне донације од иностраних држава | D87: =SUM(E87:J87) -> 0
A88: 5061 | B88: 732000 | C88: ДОНАЦИЈЕ И ПОМОЋИ ОД МЕЂУНАРОДНИХ ОРГАНИЗАЦИЈА (од 5062 до 5065) | D88: =SUM(E88:J88) -> 0 | E88: =E89+E90+E91+E92 -> 0 | F88: =F89+F90+F91+F92 -> 0 | G88: =G89+G90+G91+G92 -> 0 | H88: =H89+H90+H91+H92 -> 0 | I88: =I89+I90+I91+I92 -> 0 | J88: =J89+J90+J91+J92 -> 0
A89: 5062 | B89: 732100 | C89: Текуће донације од међународних организација | D89: =SUM(E89:J89) -> 0
A90: 5063 | B90: 732200 | C90: Капиталне донације од међународних организација | D90: =SUM(E90:J90) -> 0
A91: 5064 | B91: 732300 | C91: Текуће помоћи од ЕУ | D91: =SUM(E91:J91) -> 0
A92: 5065 | B92: 732400 | C92: Капиталне помоћи од ЕУ | D92: =SUM(E92:J92) -> 0
A93: 5066 | B93: 733000 | C93: ТРАНСФЕРИ ОД ДРУГИХ НИВОА ВЛАСТИ (5067 + 5068) | D93: =SUM(E93:J93) -> 20000 | E93: =E94+E95 -> 0 | F93: =F94+F95 -> 0 | G93: =G94+G95 -> 20000 | H93: =H94+H95 -> 0 | I93: =I94+I95 -> 0 | J93: =J94+J95 -> 0
A94: 5067 | B94: 733100 | C94: Текући трансфери од других нивоа власти | D94: =SUM(E94:J94) -> 20000 | G94: 20000
A95: 5068 | B95: 733200 | C95: Капитални трансфери од других нивоа власти | D95: =SUM(E95:J95) -> 0
A96: 5069 | B96: 740000 | C96: ДРУГИ ПРИХОДИ (5070 + 5077 + 5082 + 5089 + 5092) | D96: =SUM(E96:J96) -> 31940 | E96: =E97+E104+E109+E120+E123 -> 0 | F96: =F97+F104+F109+F120+F123 -> 0 | G96: =G97+G104+G109+G120+G123 -> 0 | H96: =H97+H104+H109+H120+H123 -> 300 | I96: =I97+I104+I109+I120+I123 -> 6300 | J96: =J97+J104+J109+J120+J123 -> 25340
A97: 5070 | B97: 741000 | C97: ПРИХОДИ ОД ИМОВИНЕ (од 5071 до 5076) | D97: =SUM(E97:J97) -> 800 | E97: =SUM(E98:E103) -> 0 | F97: =SUM(F98:F103) -> 0 | G97: =SUM(G98:G103) -> 0 | H97: =SUM(H98:H103) -> 300 | I97: =SUM(I98:I103) -> 0 | J97: =SUM(J98:J103) -> 500
A98: 5071 | B98: 741100 | C98: Камате | D98: =SUM(E98:J98) -> 0
A99: 5072 | B99: 741200 | C99: Дивиденде | D99: =SUM(E99:J99) -> 0
A100: 5073 | B100: 741300 | C100: Повлачење прихода од квази корпорација | D100: =SUM(E100:J100) -> 0
A101: 5074 | B101: 741400 | C101: Приход од имовине који припада имаоцима полиса осигурања | D101: =SUM(E101:J101) -> 800 | H101: 300 | J101: 500
A102: 5075 | B102: 741500 | C102: Закуп непроизведене имовине | D102: =SUM(E102:J102) -> 0
A103: 5076 | B103: 741600 | C103: Финансијске промене на финансијским лизинзима | D103: =SUM(E103:J103) -> 0
A104: 5077 | B104: 742000 | C104: ПРИХОДИ ОД ПРОДАЈЕ ДОБАРА И УСЛУГА (од 5078 до 5081) | D104: =SUM(E104:J104) -> 23340 | E104: =SUM(E105:E108) -> 0 | F104: =SUM(F105:F108) -> 0 | G104: =SUM(G105:G108) -> 0 | H104: =SUM(H105:H108) -> 0 | I104: =SUM(I105:I108) -> 0 | J104: =SUM(J105:J108) -> 23340
A105: 5078 | B105: 742100 | C105: Приходи од продаје добара и услуга или закупа од стране тржишних организација | D105: =SUM(E105:J105) -> 0
A106: 5079 | B106: 742200 | C106: Таксе и накнаде | D106: =SUM(E106:J106) -> 0
...

Sheet Приходи
A3: ФИНАНСИЈСКИ ПЛАН ЗА 2023. ГОДИНУ
A5: ="ЗДРАВСТВЕНА УСТАНОВА: " & ZU -> ЗДРАВСТВЕНА УСТАНОВА: 00206026 ДЗ ВРБАС
J6: (у 000 динара)
B7: Ек. Класифи-кација | C7: Опис | D7: Укупно | E7: Приходи и примања из буџета | I7: Донације | J7: Из осталих извора-сопствени приходи
E8: Републике | F8: Аутономне покрајине | G8: Општине / града | H8: ООСО
B9: 1 | C9: 2 | D9: 3=4+5+6+7+8+9 | E9: 4 | F9: 5 | G9: 6 | H9: 7 | I9: 8 | J9: 9
C10: ТЕКУЋИ ПРИХОДИ И ПРИМАЊА ОД ПРОДАЈЕ НЕФИНАНСИЈСКЕ ИМОВИНЕ | D10: =SUM(E10:J10) -> 590986 | E10: =E11+E29 -> 7000 | F10: =F11+F29 -> 61000 | G10: =G11+G29 -> 20000 | H10: =H11+H29 -> 469846 | I10: =I11+I29 -> 6300 | J10: =J11+J29 -> 26840
B11: 700000 | C11: ТЕКУЋИ ПРИХОДИ | D11: =SUM(E11:J11) -> 589486 | E11: =E12+E16+E22+E25+E27 -> 7000 | F11: =F12+F16+F22+F25+F27 -> 61000 | G11: =G12+G16+G22+G25+G27 -> 20000 | H11: =H12+H16+H22+H25+H27 -> 469846 | I11: =I12+I16+I22+I25+I27 -> 6300 | J11: =J12+J16+J22+J25+J27 -> 25340
B12: 730000 | C12: ДОНАЦИЈЕ И ТРАНСФЕРИ | D12: =SUM(E12:J12) -> 20000 | E12: =SUM(E13:E15) -> 0 | F12: =SUM(F13:F15) -> 0 | G12: =SUM(G13:G15) -> 20000 | H12: =SUM(H13:H15) -> 0 | I12: =SUM(I13:I15) -> 0 | J12: =SUM(J13:J15) -> 0
B13: 731000 | C13: ДОНАЦИЈЕ ОД ИНОСТРАНИХ ДРЖАВА | D13: =SUM(E13:J13) -> 0
B14: 732000 | C14: ДОНАЦИЈЕ ОД МЕЂУНАРОДНИХ ОРГАНИЗАЦИЈА | D14: =SUM(E14:J14) -> 0
B15: 733000 | C15: ТРАНСФЕРИ ОД ДРУГИХ НИВОА ВЛАСТИ | D15: ='2023'!D93 -> 20000 | G15: ='2023'!G93 -> 20000
B16: 740000 | C16: ДРУГИ ПРИХОДИ | D16: =SUM(E16:J16) -> 31940 | E16: =SUM(E17:E21) -> 0 | F16: =SUM(F17:F21) -> 0 | G16: =SUM(G17:G21) -> 0 | H16: =SUM(H17:H21) -> 300 | I16: =SUM(I17:I21) -> 6300 | J16: =SUM(J17:J21) -> 25340
B17: 741000 | C17: ПРИХОДИ ОД ИМОВИНЕ | D17: ='2023'!D97 -> 800 | H17: ='2023'!H97 -> 300 | J17: ='2023'!J97 -> 500
B18: 742000 | C18: ПРИХОДИ ОД ПРОДАЈЕ ДОБАРА И УСЛУГА | D18: ='2023'!D104 -> 23340 | J18: ='2023'!J104 -> 23340
B19: 743000 | C19: НОВЧАНЕ КАЗНЕ И ОДУЗЕТА ИМОВИНСКА КОРИСТ | D19: ='2023'!D109 -> 0
B20: 744000 | C20: ДОБРОВОЉНИ ТРАНСФЕРИ ОД ФИЗИЧКИХ И ПРАВНИХ ЛИЦА | D20: ='2023'!D120 -> 6300 | I20: ='2023'!I120 -> 6300
B21: 745000 | C21: МЕШОВИТИ И НЕОДРЕЂЕНИ ПРИХОДИ | D21: ='2023'!D123 -> 1500 | J21: ='2023'!J124 -> 1500
B22: 770000 | C22: МЕМОРАНДУМСКЕ СТАВКЕ ЗА РЕФУНДАЦИЈУ РАСХОДА | D22: =SUM(E22:J22) -> 0 | E22: =SUM(E23:E24) -> 0 | F22: =SUM(F23:F24) -> 0 | G22: =SUM(G23:G24) -> 0 | H22: =SUM(H23:H24) -> 0 | I22: =SUM(I23:I24) -> 0 | J22: =SUM(J23:J24) -> 0
B23: 771000 | C23: МЕМОРАНДУМСКЕ СТАВКЕ ЗА РЕФУНДАЦИЈУ РАСХОДА | D23: =SUM(E23:J23) -> 0
B24: 772000 | C24: МЕМОРАНДУМСКЕ СТАВКЕ ЗА РЕФУНДАЦИЈУ РАСХОДА ИЗ ПРЕТХОДНЕ ГОДИНЕ | D24: =SUM(E24:J24) -> 0
B25: 780000 | C25: ТРАНСФЕРИ ИЗМЕЂУ БУЏЕТСКИХ КОРИСНИКА НА ИСТОМ НИВОУ | D25: ='2023'!D130 -> 469546 | E25: ='2023'!E130 -> 0 | F25: ='2023'!F130 -> 0 | G25: ='2023'!G130 -> 0 | H25: ='2023'!H130 -> 469546 | I25: ='2023'!I130 -> 0 | J25: ='2023'!J130 -> 0
B26: 781000 | C26: ТРАНСФЕРИ ИЗМЕЂУ БУЏЕТСКИХ КОРИСНИКА НА ИСТОМ НИВОУ | D26: ='2023'!D131 -> 469546 | E26: ='2023'!E131 -> 0 | F26: ='2023'!F131 -> 0 | G26: ='2023'!G131 -> 0 | H26: ='2023'!H131 -> 469546
B27: 790000 | C27: ПРИХОДИ ИЗ БУЏЕТА | D27: ='2023'!D134 -> 68000 | E27: ='2023'!E134 -> 7000 | F27: ='2023'!F134 -> 61000 | G27: ='2023'!G134 -> 0 | H27: =H28 -> 0 | I27: =I28 -> 0 | J27: =J28 -> 0
B28: 791000 | C28: ПРИХОДИ ИЗ БУЏЕТА | D28: ='2023'!D135 -> 68000 | E28: ='2023'!E135 -> 7000 | F28: ='2023'!F135 -> 61000
B29: 800000 | C29: ПРИМАЊА ОД ПРОДАЈЕ НЕФИНАНСИЈСКЕ ИМОВИНЕ | D29: ='2023'!D141 -> 1500 | E29: ='2023'!E141 -> 0 | F29: ='2023'!F141 -> 0 | G29: ='2023'!G141 -> 0 | H29: ='2023'!H141 -> 0 | I29: ='2023'!I141 -> 0 | J29: ='2023'!J141 -> 1500
B30: 810000 | C30: ПРИМАЊА ОД ПРОДАЈЕ ОСНОВНИХ СРЕДСТАВА | D30: ='2023'!D142 -> 1500 | E30: ='2023'!E142 -> 0 | F30: ='2023'!F142 -> 0 | G30: ='2023'!G142 -> 0 | H30: ='2023'!H142 -> 0 | I30: ='2023'!I142 -> 0 | J30: ='2023'!J142 -> 1500
B31: 811000 | C31: ПРИМАЊА ОД ПРОДАЈЕ НЕПОКРЕТНОСТИ | D31: ='2023'!D143 -> 1000 | E31: ='2023'!E143 -> 0 | F31: ='2023'!F143 -> 0 | G31: ='2023'!G143 -> 0 | H31: ='2023'!H143 -> 0 | I31: ='2023'!I143 -> 0 | J31: ='2023'!J143 -> 1000
B32: 812000 | C32: ПРИМАЊА ОД ПРОДАЈЕ ПОКРЕТНЕ ИМОВИНЕ | D32: ='2023'!D145 -> 500 | E32: ='2023'!E145 -> 0 | F32: ='2023'!F145 -> 0 | G32: ='2023'!G145 -> 0 | H32: ='2023'!H145 -> 0 | I32: ='2023'!I145 -> 0 | J32: ='2023'!J145 -> 500
B33: 813000 | C33: ПРИМАЊА ОД ПРОДАЈЕ ОСТАЛИХ ОСНОВНИХ СРЕДСТАВА | D33: =SUM(E33:J33) -> 0 | H33: 0
B34: 820000 | C34: ПРИМАЊА ОД ПРОДАЈЕ ЗАЛИХА | D34: =SUM(E34:J34) -> 0 | E34: =SUM(E35:E36) -> 0 | F34: =SUM(F35:F36) -> 0 | G34: =SUM(G35:G36) -> 0 | H34: =SUM(H35:H36) -> 0 | I34: =SUM(I35:I36) -> 0 | J34: =SUM(J35:J36) -> 0
B35: 822000 | C35: ПРИМАЊА ОД ПРОДАЈЕ ЗАЛИХА ПРОИЗВОДЊЕ | D35: =SUM(E35:J35) -> 0
B36: 823000 | C36: ПРИМАЊА ОД ПРОДАЈЕ РОБЕ ЗА ДАЉУ ПРОДАЈУ | D36: =SUM(E36:J36) -> 0
B37: 900000 | C37: ПРИМАЊА ОД ЗАДУЖИВАЊА И ПРОДАЈЕ ФИНАНСИЈСКЕ ИМОВИНЕ | D37: =SUM(E37:J37) -> 0 | E37: =E38+E40 -> 0 | F37: =F38+F40 -> 0 | G37: =G38+G40 -> 0 | H37: =H38+H40 -> 0 | I37: =I38+I40 -> 0 | J37: =J38+J40 -> 0
B38: 910000 | C38: ПРИМАЊА ОД ЗАДУЖИВАЊА | D38: =SUM(E38:J38) -> 0 | E38: =E39 -> 0 | F38: =F39 -> 0 | G38: =G39 -> 0 | H38: =H39 -> 0 | I38: =I39 -> 0 | J38: =J39 -> 0
B39: 911000 | C39: ПРИМАЊА ОД ДОМАЋИХ ЗАДУЖИВАЊА | D39: =SUM(E39:J39) -> 0
B40: 920000 | C40: ПРИМАЊА ОД ПРОДАЈЕ ФИНАНСИЈСКЕ ИМОВИНЕ | D40: =D41 -> 0 | E40: =E41 -> 0 | F40: =F41 -> 0 | G40: =G41 -> 0 | H40: =H41 -> 0 | I40: =I41 -> 0 | J40: =J41 -> 0
B41: 921000 | C41: ПРИМАЊА ОД ПРОДАЈЕ ДОМАЋЕ ФИНАНСИЈСКЕ ИМОВИНЕ | D41: =SUM(E41:J41) -> 0
C42: УКУПНИ ПРИХОДИ И ПРИМАЊА | D42: =SUM(E42:J42) -> 590986 | E42: =E10+E37 -> 7000 | F42: =F10+F37 -> 61000 | G42: =G10+G37 -> 20000 | H42: =H10+H37 -> 469846 | I42: =I10+I37 -> 6300 | J42: =J10+J37 -> 26840

Sheet Расходи
J2: (у 000 динара)
B3: Ек. Класифи-кација | C3: Опис | D3: Укупно | E3: Расходи и издаци из буџета | I3: Донације | J3: Из осталих извора
E4: Републике | F4: Аутономне покрајине | G4: Општине / града | H4: ООСО
B5: 1 | C5: 2 | D5: 3=4+5+6+7+8+9 | E5: 4 | F5: 5 | G5: 6 | H5: 7 | I5: 8 | J5: 9
C6: ТЕКУЋИ РАСХОДИ И ИЗДАЦИ ЗА НЕФИНАНСИЈСКЕ ИМОВИНЕ | D6: =SUM(E6:J6) -> 590986 | E6: =E7+E38 -> 7000 | F6: =F7+F38 -> 61000 | G6: =G7+G38 -> 20000 | H6: =H7+H38 -> 469846 | I6: =I7+I38 -> 6300 | J6: =J7+J38 -> 26840
B7: 400000 | C7: ТЕКУЋИ РАСХОДИ | D7: =SUM(E7:J7) -> 522136 | E7: =E8+E15+E22+E27+E30+E32 -> 5600 | F7: =F8+F15+F22+F27+F30+F32 -> 1850 | G7: =G8+G15+G22+G27+G30+G32 -> 18700 | H7: =H8+H15+H22+H27+H30+H32 -> 469846 | I7: =I8+I15+I22+I27+I30+I32 -> 1100 | J7: =J8+J15+J22+J27+J30+J32 -> 25040
B8: 410000 | C8: РАСХОДИ ЗА ЗАПОСЛЕНЕ | D8: =SUM(E8:J8) -> 418612 | E8: =SUM(E9:E14) -> 4440 | F8: =SUM(F9:F14) -> 0 | G8: =SUM(G9:G14) -> 15860 | H8: =SUM(H9:H14) -> 386352 | I8: =SUM(I9:I14) -> 100 | J8: =SUM(J9:J14) -> 11860
B9: 411000 | C9: ПЛАТЕ, ДОДАЦИ И НАКНАДЕ ЗАПОСЛЕНИХ (ЗАРАДЕ) | D9: ='2023'!D231 -> 323740 | E9: ='2023'!E231 -> 1030 | F9: ='2023'!F231 -> 0 | G9: ='2023'!G231 -> 12430 | H9: ='2023'!H231 -> 302280 | I9: ='2023'!I231 -> 0 | J9: ='2023'!J231 -> 8000
B10: 412000 | C10: СОЦИЈАЛНИ ДОПРИНОСИ НА ТЕРЕТ ПОСЛОДАВЦА | D10: ='2023'!D232 -> 50320 | E10: ='2023'!E232 -> 162 | F10: ='2023'!F232 -> 0 | G10: ='2023'!G232 -> 3030 | H10: ='2023'!H232 -> 45828 | I10: ='2023'!I232 -> 0 | J10: ='2023'!J232 -> 1300
B11: 413000 | C11: НАКНАДЕ У НАТУРИ | D11: ='2023'!D236 -> 500 | E11: ='2023'!E236 -> 0 | F11: ='2023'!F236 -> 0 | G11: ='2023'!G236 -> 0 | H11: ='2023'!H236 -> 0 | I11: ='2023'!I236 -> 0 | J11: ='2023'!J236 -> 500
B12: 414000 | C12: СОЦИЈАЛНА ДАВАЊА ЗАПОСЛЕНИМА | D12: ='2023'!D238 -> 11916 | E12: ='2023'!E238 -> 3248 | F12: ='2023'!F238 -> 0 | G12: ='2023'!G238 -> 100 | H12: ='2023'!H238 -> 7808 | I12: ='2023'!I238 -> 0 | J12: ='2023'!J238 -> 760
B13: 415000 | C13: НАКНАДЕ ТРОШКОВА ЗА ЗАПОСЛЕНЕ | D13: ='2023'!D247 -> 23636 | E13: ='2023'!E247 -> 0 | F13: ='2023'!F247 -> 0 | G13: ='2023'!G247 -> 300 | H13: ='2023'!H247 -> 22936 | I13: ='2023'!I247 -> 0 | J13: ='2023'!J247 -> 400
B14: 416000 | C14: НАГРАДЕ ЗАПОСЛЕНИМА И ОСТАЛИ ПОСЕБНИ РАСХОДИ | D14: ='2023'!D249 -> 8500 | E14: ='2023'!E249 -> 0 | F14: ='2023'!F249 -> 0 | G14: ='2023'!G249 -> 0 | H14: ='2023'!H249 -> 7500 | I14: ='2023'!I249 -> 100 | J14: ='2023'!J249 -> 900
B15: 420000 | C15: КОРИШЋЕЊЕ УСЛУГА И РОБА | D15: =SUM(E15:J15) -> 98974 | E15: =SUM(E16:E21) -> 1160 | F15: =SUM(F16:F21) -> 1850 | G15: =SUM(G16:G21) -> 1540 | H15: =SUM(H16:H21) -> 82294 | I15: =SUM(I16:I21) -> 1000 | J15: =SUM(J16:J21) -> 11130
B16: 421000 | C16: СТАЛНИ ТРОШКОВИ | D16: ='2023'!D256 -> 27360 | E16: ='2023'!E256 -> 10 | F16: ='2023'!F256 -> 0 | G16: ='2023'!G256 -> 0 | H16: ='2023'!H256 -> 26000 | I16: ='2023'!I256 -> 0 | J16: ='2023'!J256 -> 1350
B17: 422000 | C17: ТРОШКОВИ ПУТОВАЊА | D17: ='2023'!D264 -> 1320 | E17: ='2023'!E264 -> 0 | F17: ='2023'!F264 -> 0 | G17: ='2023'!G264 -> 200 | H17: ='2023'!H264 -> 120 | I17: ='2023'!I264 -> 0 | J17: ='2023'!J264 -> 1000
B18: 423000 | C18: УСЛУГЕ ПО УГОВОРУ | D18: ='2023'!D270 -> 10930 | E18: ='2023'!E270 -> 900 | F18: ='2023'!F270 -> 750 | G18: ='2023'!G270 -> 0 | H18: ='2023'!H270 -> 7050 | I18: ='2023'!I270 -> 50 | J18: ='2023'!J270 -> 2180
B19: 424000 | C19: СПЕЦИЈАЛИЗОВАНЕ УСЛУГЕ | D19: ='2023'!D283 -> 6000 | E19: ='2023'!E283 -> 250 | F19: ='2023'!F283 -> 0 | G19: ='2023'!G283 -> 750 | H19: ='2023'!H283 -> 1000 | I19: ='2023'!I283 -> 0 | J19: ='2023'!J283 -> 4000
B20: 425000 | C20: ТЕКУЋЕ ПОПРАВКЕ И ОДРЖАВАЊЕ | D20: ='2023'!D291 -> 5800 | E20: ='2023'!E291 -> 0 | F20: ='2023'!F291 -> 1100 | G20: ='2023'!G291 -> 0 | H20: ='2023'!H291 -> 4100 | I20: ='2023'!I291 -> 0 | J20: ='2023'!J291 -> 600
B21: 426000 | C21: МАТЕРИЈАЛ | D21: ='2023'!D294 -> 47564 | E21: ='2023'!E294 -> 0 | F21: ='2023'!F294 -> 0 | G21: ='2023'!G294 -> 590 | H21: ='2023'!H294 -> 44024 | I21: ='2023'!I294 -> 950 | J21: ='2023'!J294 -> 2000
B22: 430000 | C22: АМОРТИЗАЦИЈА И УПОТРЕБА СРЕДСТАВА ЗА РАД | D22: =SUM(E22:J22) -> 1050 | E22: =SUM(E23:E26) -> 0 | F22: =SUM(F23:F26) -> 0 | G22: =SUM(G23:G26) -> 0 | H22: =SUM(H23:H26) -> 0 | I22: =SUM(I23:I26) -> 0 | J22: =SUM(J23:J26) -> 1050
B23: 431000 | C23: АМОРТИЗАЦИЈА НЕКРЕТНИНА И ОПРЕМЕ | D23: ='2023'!D305 -> 1050 | E23: ='2023'!E305 -> 0 | F23: ='2023'!F305 -> 0 | G23: ='2023'!G305 -> 0 | H23: ='2023'!H305 -> 0 | I23: ='2023'!I305 -> 0 | J23: ='2023'!J305 -> 1050
B24: 432000 | C24: АМОРТИЗАЦИЈА КУЛТИВИСАНЕ ИМОВИНЕ | D24: =SUM(E24:J24) -> 0
B25: 434000 | C25: УПОТРЕБА ПРИРОДНЕ ИМОВИНЕ | D25: =SUM(E25:J25) -> 0
B26: 435000 | C26: АМОРТИЗАЦИЈА НЕМАТЕРИЈАЛНЕ ИМОВИНЕ | D26: =SUM(E26:J26) -> 0
B27: 440000 | C27: ОТПЛАТА КАМАТА И ПРАТЕЋИ ТРОШКОВИ ЗАДУЖИВАЊА | D27: =SUM(E27:J27) -> 2500 | E27: =SUM(E28:E29) -> 0 | F27: =SUM(F28:F29) -> 0 | G27: =SUM(G28:G29) -> 1000 | H27: =SUM(H28:H29) -> 1000 | I27: =SUM(I28:I29) -> 0 | J27: =SUM(J28:J29) -> 500
B28: 441000 | C28: ОТПЛАТА ДОМАЋИХ КАМАТА | D28: =SUM(E28:J28) -> 0
B29: 444000 | C29: ПРАТЕЋИ ТРОШКОВИ ЗАДУЖИВАЊА | D29: ='2023'!D323 -> 2500 | E29: ='2023'!E323 -> 0 | F29: ='2023'!F323 -> 0 | G29: ='2023'!G323 -> 1000 | H29: ='2023'!H323 -> 1000 | I29: ='2023'!I323 -> 0 | J29: ='2023'!J323 -> 500
B30: 460000 | C30: ДОНАЦИЈЕ, ДОТАЦИЈЕ И ТРАНСФЕРИ (5304) | D30: =SUM(E30:J30) -> 0 | E30: =SUM(E31) -> 0 | F30: =SUM(F31) -> 0 | G30: =SUM(G31) -> 0 | H30: =SUM(H31) -> 0 | I30: =SUM(I31) -> 0 | J30: =SUM(J31) -> 0
B31: 465000 | C31: ОСТАЛЕ ДОТАЦИЈЕ И ТРАНСФЕРИ | D31: =SUM(E31:J31) -> 0
B32: 480000 | C32: ОСТАЛИ РАСХОДИ | D32: =SUM(E32:J32) -> 1000 | E32: =SUM(E33:E37) -> 0 | F32: =SUM(F33:F37) -> 0 | G32: =SUM(G33:G37) -> 300 | H32: =SUM(H33:H37) -> 200 | I32: =SUM(I33:I37) -> 0 | J32: =SUM(J33:J37) -> 500
B33: 481000 | C33: ДОТАЦИЈЕ НЕВЛАДИНИМ ОРГАНИЗАЦИЈАМА | D33: =SUM(E33:J33) -> 0
B34: 482000 | C34: ПОРЕЗИ, ОБАВЕЗНЕ ТАКСЕ И КАЗНЕ | D34: ='2023'!D407 -> 600 | E34: ='2023'!E407 -> 0 | F34: ='2023'!F407 -> 0 | G34: ='2023'!G407 -> 0 | H34: ='2023'!H407 -> 200 | I34: ='2023'!I407 -> 0 | J34: ='2023'!J407 -> 400
B35: 483000 | C35: НОВЧАНЕ КАЗНЕ И ПЕНАЛИ ПО РЕШЕЊУ СУДОВА | D35: ='2023'!D411 -> 400 | E35: ='2023'!E411 -> 0 | F35: ='2023'!F411 -> 0 | G35: ='2023'!G411 -> 300 | H35: ='2023'!H411 -> 0 | I35: ='2023'!I411 -> 0 | J35: ='2023'!J411 -> 100
B36: 484000 | C36: НАКНАДА ШТЕТЕ ЗА ПОВРЕДЕ ИЛИ ШТЕТУ НАСТАЛУ УСЛЕД ЕЛЕМЕНТАРНИХ НЕПОГОДА ИЛИ ДРУГИХ ПРИРОДНИХ УЗРОКА | D36: =SUM(E36:J36) -> 0
B37: 485000 | C37: НАКНАДА ШТЕТЕ ЗА ПОВРЕДЕ ИЛИ ШТЕТУ НАНЕТУ ИД СТРАНЕ ДРЖАВНИХ ОРХАНА | D37: =SUM(E37:J37) -> 0
B38: 500000 | C38: ИЗДАЦИ ЗА НЕФИНАНСИЈСКУ ИМОВИНУ | D38: =SUM(E38:J38) -> 68850 | E38: =E39+E44+E47 -> 1400 | F38: =F39+F44+F47 -> 59150 | G38: =G39+G44+G47 -> 1300 | H38: =H39+H44+H47 -> 0 | I38: =I39+I44+I47 -> 5200 | J38: =J39+J44+J47 -> 1800
B39: 510000 | C39: ОСНОВНА СРЕДСТВА | D39: =SUM(E39:J39) -> 68850 | E39: =SUM(E40:E43) -> 1400 | F39: =SUM(F40:F43) -> 59150 | G39: =SUM(G40:G43) -> 1300 | H39: =SUM(H40:H43) -> 0 | I39: =SUM(I40:I43) -> 5200 | J39: =SUM(J40:J43) -> 1800
B40: 511000 | C40: ЗГРАДЕ И ГРАЂЕВИНСКИ ОБЈЕКТИ | D40: ='2023'!D426 -> 50400 | E40: ='2023'!E426 -> 0 | F40: ='2023'!F426 -> 50000 | G40: ='2023'!G426 -> 0 | H40: ='2023'!H426 -> 0 | I40: ='2023'!I426 -> 0 | J40: ='2023'!J426 -> 400
B41: 512000 | C41: МАШИНЕ И ОПРЕМА | D41: ='2023'!D431 -> 18350 | E41: ='2023'!E431 -> 1400 | F41: ='2023'!F431 -> 9150 | G41: ='2023'!G431 -> 1300 | H41: ='2023'!H431 -> 0 | I41: ='2023'!I431 -> 5200 | J41: ='2023'!J431 -> 1300
B42: 513000 | C42: ОСТАЛЕ НЕКРЕТНИНЕ И ОПРЕМА | D42: =SUM(E42:J42) -> 0
B43: 515000 | C43: НЕМАТЕРИЈАЛНА ИМОВИНА | D43: ='2023'!D446 -> 100 | E43: ='2023'!E446 -> 0 | F43: ='2023'!F446 -> 0 | G43: ='2023'!G446 -> 0 | H43: ='2023'!H446 -> 0 | I43: ='2023'!I446 -> 0 | J43: ='2023'!J446 -> 100
B44: 520000 | C44: ЗАЛИХЕ | D44: =SUM(E44:J44) -> 0 | E44: =SUM(E45:E46) -> 0 | F44: =SUM(F45:F46) -> 0 | G44: =SUM(G45:G46) -> 0 | H44: =SUM(H45:H46) -> 0 | I44: =SUM(I45:I46) -> 0 | J44: =SUM(J45:J46) -> 0
B45: 522000 | C45: ЗАЛИХЕ ПРОИЗВОДЊЕ | D45: =SUM(E45:J45) -> 0
B46: 523000 | C46: ЗАЛИХЕ РОБЕ ЗА ДАЉУ ПРОДАЈУ | D46: =SUM(E46:J46) -> 0
B47: 550000 | C47: НЕФИНАНСИЈСКА ИМОВИНА КОЈА СЕ ФИНАНСИРА ИЗ СРЕДСТАВА ЗА РЕАЛИЗАЦИЈУ НАЦИОНАЛНОГ ИНВЕСТИЦИОНОГ ПЛАНА | D47: =SUM(E47:J47) -> 0 | E47: =E48 -> 0 | F47: =F48 -> 0 | G47: =G48 -> 0 | H47: =H48 -> 0 | I47: =I48 -> 0 | J47: =J48 -> 0
B48: 551000 | C48: НЕФИНАНСИЈСКА ИМОВИНА КОЈА СЕ ФИНАНСИРА ИЗ СРЕДСТАВА ЗА РЕАЛИЗАЦИЈУ НАЦИОНАЛНОГ ИНВЕСТИЦИОНОГ ПЛАНА | D48: =SUM(E48:J48) -> 0
B49: 600000 | C49: ИЗДАЦИ ЗА ОТПЛАТУ ГЛАВНИЦЕ И НАБАВКУ ФИНАНСИЈСКЕ ИМОВИНЕ | D49: =SUM(E49:J49) -> 0 | E49: =E50+E53 -> 0 | F49: =F50+F53 -> 0 | G49: =G50+G53 -> 0 | H49: =H50+H53 -> 0 | I49: =I50+I53 -> 0 | J49: =J50+J53 -> 0
B50: 610000 | C50: ОТПЛАТА ГЛАВНИЦЕ | D50: =SUM(E50:J50) -> 0 | E50: =SUM(E51:E52) -> 0 | F50: =SUM(F51:F52) -> 0 | G50: =SUM(G51:G52) -> 0 | H50: =SUM(H51:H52) -> 0 | I50: =SUM(I51:I52) -> 0 | J50: =SUM(J51:J52) -> 0
B51: 611000 | C51: ОТПЛАТА ГЛАВНИЦЕ ДОМАЋИМ КРЕДИТОРИМА | D51: =SUM(E51:J51) -> 0
B52: 614000 | C52: ОТПЛАТА ГЛАВНИЦЕ ЗА ФИНАНСИЈСКИ ЛИЗИНГ | D52: =SUM(E52:J52) -> 0
B53: 620000 | C53: НАБАВКА ФИНАНСИЈСКЕ ИМОВИНЕ | D53: =SUM(E53:J53) -> 0 | E53: =E54 -> 0 | F53: =F54 -> 0 | G53: =G54 -> 0 | H53: =H54 -> 0 | I53: =I54 -> 0 | J53: =J54 -> 0
B54: 621000 | C54: НАБАВКА ДОМАЋЕ ФИНАНСИЈСКЕ ИМОВИНЕ | D54: =SUM(E54:J54) -> 0
C55: УКУПНИ РАСХОДИ И ИЗДАЦИ | D55: =SUM(E55:J55) -> 590986 | E55: =E6+E49 -> 7000 | F55: =F6+F49 -> 61000 | G55: =G6+G49 -> 20000 | H55: =H6+H49 -> 469846 | I55: =I6+I49 -> 6300 | J55: =J6+J49 -> 26840
